BEGIN:VCALENDAR
VERSION:2.0
CALSCALE:GREGORIAN
METHOD:PUBLISH
BEGIN:VEVENT
UID:69e53951ef04d
SUMMARY:Boda Cami y Lau
DTSTART;TZID=America/Argentina/Buenos_Aires:20250412T150000
DTEND;TZID=America/Argentina/Buenos_Aires:20250413T030000
LOCATION:El Dok Haras, Argentina
DESCRIPTION:¡Nos casamos! Ven a celebrar con nosotros en El Dok Haras
STATUS:CONFIRMED
TRANSP:OPAQUE
BEGIN:VALARM
TRIGGER:-PT30M
ACTION:DISPLAY
DESCRIPTION:Recordatorio del evento
END:VALARM
END:VEVENT
END:VCALENDAR